BEGIN:VCALENDAR
VERSION:2.0
PRODID:-//AMA UTampa - ECPv6.6.3//NONSGML v1.0//EN
CALSCALE:GREGORIAN
METHOD:PUBLISH
X-ORIGINAL-URL:https://amaut.net
X-WR-CALDESC:Events for AMA UTampa
REFRESH-INTERVAL;VALUE=DURATION:PT1H
X-Robots-Tag:noindex
X-PUBLISHED-TTL:PT1H
BEGIN:VTIMEZONE
TZID:America/Detroit
BEGIN:DAYLIGHT
TZOFFSETFROM:-0500
TZOFFSETTO:-0400
TZNAME:EDT
DTSTART:20250309T070000
END:DAYLIGHT
BEGIN:STANDARD
TZOFFSETFROM:-0400
TZOFFSETTO:-0500
TZNAME:EST
DTSTART:20251102T060000
END:STANDARD
END:VTIMEZONE
BEGIN:VEVENT
DTSTART;TZID=America/Detroit:20250304T190000
DTEND;TZID=America/Detroit:20250304T203000
DTSTAMP:20260423T183901
CREATED:20250227T165804Z
LAST-MODIFIED:20250227T165804Z
UID:4513-1741114800-1741120200@amaut.net
SUMMARY:
DESCRIPTION:🏐 Spike your way to victory at AMA’s Volleyball Fundraiser! 🏐 \nLooking to have some fun with AMA outside our typical professional events? Join us for our Volleyball Fundraiser! Bring your friends and enjoy some friendly competition\, where winners take home a prize! It’s the perfect chance to connect outside of our usual professional events. Be there or be square 🏐 \nRegister Here!
URL:https://amaut.net/event/4513/
LOCATION:Benson Alex Riseman Volleyball courts.  401 W Kennedy BLVD\, Box P\, Tampa\, Florida 33606-1490\, United States
ATTACH;FMTTYPE=image/png:https://amaut.net/wp-content/uploads/2025/02/volleyball-post.JPEG.png
END:VEVENT
BEGIN:VEVENT
DTSTART;TZID=America/Detroit:20250326T180000
DTEND;TZID=America/Detroit:20250326T193000
DTSTAMP:20260423T183901
CREATED:20250324T173510Z
LAST-MODIFIED:20250324T173510Z
UID:4585-1743012000-1743017400@amaut.net
SUMMARY:Riverwalk Social: Mentee Riverwalk
DESCRIPTION:Don’t miss our Riverwalk Social this Wednesday! We will meet at plant park\, walk over to Eddies and Sams for a slice of pizza\, and then watch the sunset after! Who doesn’t love pizza with a side of sunset! \nFollow us!
URL:https://amaut.net/event/riverwalk-social-mentee-riverwalk/
LOCATION:Plant Park
ATTACH;FMTTYPE=image/png:https://amaut.net/wp-content/uploads/2025/03/Screenshot-2025-03-24-at-1.30.27 PM.png
END:VEVENT
BEGIN:VEVENT
DTSTART;TZID=America/Detroit:20250329T093000
DTEND;TZID=America/Detroit:20250329T143000
DTSTAMP:20260423T183901
CREATED:20250324T180941Z
LAST-MODIFIED:20250324T180941Z
UID:4600-1743240600-1743258600@amaut.net
SUMMARY:Volunteer Event: WEDU PBS "Be My Neighbor Day"
DESCRIPTION:WEDU PBS invites the AMA community to celebrate kindness and neighbors on Saturday\, March 29\, 2025. Volunteers must be 16 or older\, and if you’d like to earn community service hours\, just bring your form for them to sign. The event will be fun\, fulfilling\, and a great way to connect with your community. Let’s come together and make this day unforgettable! \nDress Code: Casual
URL:https://amaut.net/event/volunteer-event-wedu-pbs-be-my-neighbor-day/
LOCATION:1300 N Boulevard\, Tampa\, FL 33607\, FL\, United States
ATTACH;FMTTYPE=image/png:https://amaut.net/wp-content/uploads/2025/03/Screenshot-2025-03-24-at-2.08.50 PM.png
END:VEVENT
END:VCALENDAR