BEGIN:VCALENDAR
VERSION:2.0
PRODID:-//AMA UTampa - ECPv6.6.3//NONSGML v1.0//EN
CALSCALE:GREGORIAN
METHOD:PUBLISH
X-WR-CALNAME:AMA UTampa
X-ORIGINAL-URL:https://amaut.net
X-WR-CALDESC:Events for AMA UTampa
REFRESH-INTERVAL;VALUE=DURATION:PT1H
X-Robots-Tag:noindex
X-PUBLISHED-TTL:PT1H
BEGIN:VTIMEZONE
TZID:America/Detroit
BEGIN:DAYLIGHT
TZOFFSETFROM:-0500
TZOFFSETTO:-0400
TZNAME:EDT
DTSTART:20240310T070000
END:DAYLIGHT
BEGIN:STANDARD
TZOFFSETFROM:-0400
TZOFFSETTO:-0500
TZNAME:EST
DTSTART:20241103T060000
END:STANDARD
END:VTIMEZONE
BEGIN:VEVENT
DTSTART;TZID=America/Detroit:20241203T183000
DTEND;TZID=America/Detroit:20241203T193000
DTSTAMP:20260424T174926
CREATED:20241203T140354Z
LAST-MODIFIED:20241203T140354Z
UID:3573-1733250600-1733254200@amaut.net
SUMMARY:Marketing a Destination with the CMO of Visit Tampa Bay
DESCRIPTION:Hello AMAzing members! Are you curious about Tampa Bay’s rapid growth and destination marketing? \nJoin us on Tuesday\, December 3rd\, for an insightful talk with Patrick Harrison\, Chief Marketing Officer of Visit Tampa Bay. \nLearn what goes into marketing Tampa Bay and discover why people from all over are moving to our beautiful area. Don’t miss it! \nSign up here!
URL:https://amaut.net/event/marketing-a-destination-with-the-cmo-of-visit-tampa-bay/
LOCATION:Jenkins Hall Top Floor – Comm 1
ATTACH;FMTTYPE=image/webp:https://amaut.net/wp-content/uploads/2024/12/Visit-Tampa-Bay.webp
END:VEVENT
BEGIN:VEVENT
DTSTART;TZID=America/Detroit:20241204T183000
DTEND;TZID=America/Detroit:20241204T200000
DTSTAMP:20260424T174926
CREATED:20241203T141330Z
LAST-MODIFIED:20241203T141330Z
UID:3581-1733337000-1733342400@amaut.net
SUMMARY:Christmas Bash!
DESCRIPTION:Hello\, AMAzing members! Join us tomorrow\, December 4th\, from 6:30–7:30 PM\, for a festive celebration exclusive to our Paid Members! \nEnjoy holiday cheer\, exciting competitions\, and top-notch prizes. Plus\, we’ll be bidding a heartfelt farewell to our graduating seniors. \nDON’T MISS OUT! We can’t wait to see you there! \nNo need to register for this event\, just show up!
URL:https://amaut.net/event/christmas-bash/
LOCATION:SFB 145
ATTACH;FMTTYPE=image/webp:https://amaut.net/wp-content/uploads/2024/12/Christmas-Bash-AMA-1.webp
END:VEVENT
END:VCALENDAR