BEGIN:VCALENDAR
VERSION:2.0
PRODID:-//AMA UTampa - ECPv6.6.3//NONSGML v1.0//EN
CALSCALE:GREGORIAN
METHOD:PUBLISH
X-WR-CALNAME:AMA UTampa
X-ORIGINAL-URL:https://amaut.net
X-WR-CALDESC:Events for AMA UTampa
REFRESH-INTERVAL;VALUE=DURATION:PT1H
X-Robots-Tag:noindex
X-PUBLISHED-TTL:PT1H
BEGIN:VTIMEZONE
TZID:America/New_York
BEGIN:DAYLIGHT
TZOFFSETFROM:-0500
TZOFFSETTO:-0400
TZNAME:EDT
DTSTART:20240310T070000
END:DAYLIGHT
BEGIN:STANDARD
TZOFFSETFROM:-0400
TZOFFSETTO:-0500
TZNAME:EST
DTSTART:20241103T060000
END:STANDARD
END:VTIMEZONE
BEGIN:VEVENT
DTSTART;TZID=America/New_York:20240124T183000
DTEND;TZID=America/New_York:20240124T193000
DTSTAMP:20260422T093654
CREATED:20240115T010733Z
LAST-MODIFIED:20240115T010733Z
UID:1520-1706121000-1706124600@amaut.net
SUMMARY:Introduction AMA Meeting
DESCRIPTION:Welcome Back Spartans! Join us this Wednesday\, January 24th\, at 6:30pm in Grand Salon to hear from our current members and leadership team about why joining AMA is right for you! All majors are encouraged to attend\, and we can’t wait to kick off the Spring semester with you all! Register using the link provided!
URL:https://amaut.net/event/introduction-ama-meeting/
LOCATION:Grand Salon in Plant Hall – The Univeristy of Tampa
END:VEVENT
END:VCALENDAR