BEGIN:VCALENDAR
VERSION:2.0
PRODID:-//AMA UTampa - ECPv6.6.3//NONSGML v1.0//EN
CALSCALE:GREGORIAN
METHOD:PUBLISH
X-WR-CALNAME:AMA UTampa
X-ORIGINAL-URL:https://amaut.net
X-WR-CALDESC:Events for AMA UTampa
REFRESH-INTERVAL;VALUE=DURATION:PT1H
X-Robots-Tag:noindex
X-PUBLISHED-TTL:PT1H
BEGIN:VTIMEZONE
TZID:America/Detroit
BEGIN:DAYLIGHT
TZOFFSETFROM:-0500
TZOFFSETTO:-0400
TZNAME:EDT
DTSTART:20250309T070000
END:DAYLIGHT
BEGIN:STANDARD
TZOFFSETFROM:-0400
TZOFFSETTO:-0500
TZNAME:EST
DTSTART:20251102T060000
END:STANDARD
END:VTIMEZONE
BEGIN:VEVENT
DTSTART;TZID=America/Detroit:20250423T183000
DTEND;TZID=America/Detroit:20250423T200000
DTSTAMP:20260423T125044
CREATED:20250415T161522Z
LAST-MODIFIED:20250415T161522Z
UID:4660-1745433000-1745438400@amaut.net
SUMMARY:End of Year Bash
DESCRIPTION:Join AMA for a trip to Davis Islands! To celebrate all the hard work and dedication from our AMA team throughout the year\, we will be taking a trip to Davis Islands to enjoy a nice sunset and pizza. Don’t miss out on the fun!
URL:https://amaut.net/event/end-of-year-bash/
LOCATION:Davis Island
ATTACH;FMTTYPE=image/jpeg:https://amaut.net/wp-content/uploads/2025/04/Davis-Island-1.jpg
END:VEVENT
END:VCALENDAR