BEGIN:VCALENDAR
VERSION:2.0
PRODID:-//AMA UTampa - ECPv6.6.3//NONSGML v1.0//EN
CALSCALE:GREGORIAN
METHOD:PUBLISH
X-WR-CALNAME:AMA UTampa
X-ORIGINAL-URL:https://amaut.net
X-WR-CALDESC:Events for AMA UTampa
REFRESH-INTERVAL;VALUE=DURATION:PT1H
X-Robots-Tag:noindex
X-PUBLISHED-TTL:PT1H
BEGIN:VTIMEZONE
TZID:America/Detroit
BEGIN:DAYLIGHT
TZOFFSETFROM:-0500
TZOFFSETTO:-0400
TZNAME:EDT
DTSTART:20250309T070000
END:DAYLIGHT
BEGIN:STANDARD
TZOFFSETFROM:-0400
TZOFFSETTO:-0500
TZNAME:EST
DTSTART:20251102T060000
END:STANDARD
END:VTIMEZONE
BEGIN:VEVENT
DTSTART;TZID=America/Detroit:20250411T170000
DTEND;TZID=America/Detroit:20250411T190000
DTSTAMP:20260423T114036
CREATED:20250407T181718Z
LAST-MODIFIED:20250407T181718Z
UID:4629-1744390800-1744398000@amaut.net
SUMMARY:Pickleball Fundraiser
DESCRIPTION:Join us for our Pickleball fundraiser this Friday! It will be teams of two\, and each person will pay $5. Don’t miss out on the fun and PRIZES! \n  \n 
URL:https://amaut.net/event/pickleball-fundraiser/
LOCATION:Tennis Courts
ATTACH;FMTTYPE=image/png:https://amaut.net/wp-content/uploads/2025/04/Screenshot-2025-04-07-at-2.09.27 PM.png
END:VEVENT
END:VCALENDAR