BEGIN:VCALENDAR
VERSION:2.0
PRODID:-//AMA UTampa - ECPv6.6.3//NONSGML v1.0//EN
CALSCALE:GREGORIAN
METHOD:PUBLISH
X-ORIGINAL-URL:https://amaut.net
X-WR-CALDESC:Events for AMA UTampa
REFRESH-INTERVAL;VALUE=DURATION:PT1H
X-Robots-Tag:noindex
X-PUBLISHED-TTL:PT1H
BEGIN:VTIMEZONE
TZID:America/Detroit
BEGIN:DAYLIGHT
TZOFFSETFROM:-0500
TZOFFSETTO:-0400
TZNAME:EDT
DTSTART:20250309T070000
END:DAYLIGHT
BEGIN:STANDARD
TZOFFSETFROM:-0400
TZOFFSETTO:-0500
TZNAME:EST
DTSTART:20251102T060000
END:STANDARD
END:VTIMEZONE
BEGIN:VEVENT
DTSTART;TZID=America/Detroit:20250218T080000
DTEND;TZID=America/Detroit:20250218T100000
DTSTAMP:20260423T224725
CREATED:20250213T202434Z
LAST-MODIFIED:20250213T202557Z
UID:4179-1739865600-1739872800@amaut.net
SUMMARY:AMA Tampa Bay 2025 Vision: New Year\, New Trends
DESCRIPTION:AMA Tampa Bay is excited to invite you to 2025 Vision: New Year\, New Trends\, an exclusive event designed to inspire and empower marketers and leaders as we step into the new year. \nThis is your chance to: \n\nGain actionable insights to kickstart the year.\nConnect with top marketing professionals in Tampa Bay.\nLearn from leaders shaping the future of our industry.\n\nThis special event features a panel of AMA Tampa Bay past presidents\, each a proven leader in their industry: \n\nGlenn Zimmerman – President/CEO of Mad Bear Productions\nAlly Gannon – Partner/Chief Connection Officer of Coconspirator\nAlfred Goldberg – President of Absolute Marketing Solutions\nKari Goetz – CEO/Founder of Winzig Consulting\n\nLet’s make 2025 your most successful year yet. We can’t wait to see you there! \nRegister Here!
URL:https://amaut.net/event/ama-tampa-bay-2025-vision-new-year-new-trends/
LOCATION:Embarc Collective\, 802 E Whiting St\, Tampa\, FL\, 33602\, United States
ATTACH;FMTTYPE=image/png:https://amaut.net/wp-content/uploads/2025/02/8c80c774-7dd4-5f3f-8285-5247a7bfc6a4.png
END:VEVENT
BEGIN:VEVENT
DTSTART;TZID=America/Detroit:20250218T183000
DTEND;TZID=America/Detroit:20250218T200000
DTSTAMP:20260423T224725
CREATED:20250203T182647Z
LAST-MODIFIED:20250210T211545Z
UID:3864-1739903400-1739908800@amaut.net
SUMMARY:Embarc Collective: How to Market a Startup
DESCRIPTION:This event\, hosted in collaboration with Embarc Collective\, will provide attendees with a comprehensive guide to launching and growing a startup. Whether you have a business idea or are simply curious about the startup ecosystem\, this interactive session will equip you with the knowledge and tools to take the first steps toward entrepreneurship. \nThis event will be a valuable opportunity to learn from experts\, network with like-minded individuals\, and gain actionable insights into launching a startup. Attendees will leave with a better understanding of how marketing plays a crucial role in startup growth and success. \nRegister Here! \n 
URL:https://amaut.net/event/embarc-collective-how-to-market-a-startup/
LOCATION:Embarc Collective\, 802 E Whiting St\, Tampa\, FL\, 33602\, United States
ATTACH;FMTTYPE=image/png:https://amaut.net/wp-content/uploads/2025/01/embarc-collective-1.png
END:VEVENT
END:VCALENDAR