BEGIN:VCALENDAR
VERSION:2.0
PRODID:-//AMA UTampa - ECPv6.6.3//NONSGML v1.0//EN
CALSCALE:GREGORIAN
METHOD:PUBLISH
X-ORIGINAL-URL:https://amaut.net
X-WR-CALDESC:Events for AMA UTampa
REFRESH-INTERVAL;VALUE=DURATION:PT1H
X-Robots-Tag:noindex
X-PUBLISHED-TTL:PT1H
BEGIN:VTIMEZONE
TZID:America/Detroit
BEGIN:DAYLIGHT
TZOFFSETFROM:-0500
TZOFFSETTO:-0400
TZNAME:EDT
DTSTART:20250309T070000
END:DAYLIGHT
BEGIN:STANDARD
TZOFFSETFROM:-0400
TZOFFSETTO:-0500
TZNAME:EST
DTSTART:20251102T060000
END:STANDARD
END:VTIMEZONE
BEGIN:VEVENT
DTSTART;TZID=America/Detroit:20250205T183000
DTEND;TZID=America/Detroit:20250205T200000
DTSTAMP:20260424T014310
CREATED:20250131T171759Z
LAST-MODIFIED:20250131T172947Z
UID:3827-1738780200-1738785600@amaut.net
SUMMARY:Marketing Analytics Publix Event
DESCRIPTION:Interested in learning more about marketing analytics? Join us for an exclusive evening with Publix!  \nDiscover how Publix has grown into a household name\, thriving locally and globally! Learn about their business strategies\, how they keep track of analytics\, and connect with different marketing professionals. There may be some internship opportunities\, so don’t miss out!\nDress Code: Business Casual  \nSign up here!
URL:https://amaut.net/event/marketing-analytics-publix-event/
LOCATION:Lowth Entrepreneurship Center (ICB 8th Floor)
ATTACH;FMTTYPE=image/jpeg:https://amaut.net/wp-content/uploads/2025/01/Publix-event-1.jpeg
END:VEVENT
END:VCALENDAR