BEGIN:VCALENDAR
VERSION:2.0
PRODID:-//AMA UTampa - ECPv6.6.3//NONSGML v1.0//EN
CALSCALE:GREGORIAN
METHOD:PUBLISH
X-WR-CALNAME:AMA UTampa
X-ORIGINAL-URL:https://amaut.net
X-WR-CALDESC:Events for AMA UTampa
REFRESH-INTERVAL;VALUE=DURATION:PT1H
X-Robots-Tag:noindex
X-PUBLISHED-TTL:PT1H
BEGIN:VTIMEZONE
TZID:America/Detroit
BEGIN:DAYLIGHT
TZOFFSETFROM:-0500
TZOFFSETTO:-0400
TZNAME:EDT
DTSTART:20240310T070000
END:DAYLIGHT
BEGIN:STANDARD
TZOFFSETFROM:-0400
TZOFFSETTO:-0500
TZNAME:EST
DTSTART:20241103T060000
END:STANDARD
END:VTIMEZONE
BEGIN:VEVENT
DTSTART;TZID=America/Detroit:20241030T183000
DTEND;TZID=America/Detroit:20241030T193000
DTSTAMP:20260424T204319
CREATED:20241023T232204Z
LAST-MODIFIED:20241023T232204Z
UID:3353-1730313000-1730316600@amaut.net
SUMMARY:Marketing Competition Strategy
DESCRIPTION:AMAUTampa is thrilled to announce our partnership with the DECA chapter at Armwood High! Join us on Wednesday\, 10/30\, where we will be hosting a mock trial competition to practice our skills for the International Collegiate Conference in NOLA! \nIn teams\, students will be given a one-page brief detailing a business problem that needs a solution! Teams will have 20 minutes to craft and plan a delivery for a compelling case solution. Groups will present their case solution to our judge panel\, followed by a Q&A session. This is a great opportunity to strengthen your public speaking\, think critically about a relevant issue in the business world\, and collaborate with others. Sign up now!
URL:https://amaut.net/event/marketing-competition-strategy/
LOCATION:SFB 145
ATTACH;FMTTYPE=image/png:https://amaut.net/wp-content/uploads/2024/10/1030-AMA-GRAPHIC-1.png
END:VEVENT
END:VCALENDAR