BEGIN:VCALENDAR
VERSION:2.0
PRODID:-//AMA UTampa - ECPv6.6.3//NONSGML v1.0//EN
CALSCALE:GREGORIAN
METHOD:PUBLISH
X-WR-CALNAME:AMA UTampa
X-ORIGINAL-URL:https://amaut.net
X-WR-CALDESC:Events for AMA UTampa
REFRESH-INTERVAL;VALUE=DURATION:PT1H
X-Robots-Tag:noindex
X-PUBLISHED-TTL:PT1H
BEGIN:VTIMEZONE
TZID:America/Detroit
BEGIN:DAYLIGHT
TZOFFSETFROM:-0500
TZOFFSETTO:-0400
TZNAME:EDT
DTSTART:20240310T070000
END:DAYLIGHT
BEGIN:STANDARD
TZOFFSETFROM:-0400
TZOFFSETTO:-0500
TZNAME:EST
DTSTART:20241103T060000
END:STANDARD
END:VTIMEZONE
BEGIN:VEVENT
DTSTART;TZID=America/Detroit:20241023T180000
DTEND;TZID=America/Detroit:20241023T190000
DTSTAMP:20260424T235013
CREATED:20241020T232006Z
LAST-MODIFIED:20241020T232006Z
UID:3342-1729706400-1729710000@amaut.net
SUMMARY:T-Shirt Competition
DESCRIPTION:Hello AMAzing members! Ready to bring out your creative design and fashion skills? \nJoin us at our T-shirt Competition Wednesday October 23rd to design an AMA UTampa T-Shirt\, the best design will be submitted to the International Collegiate Conference Competition to compete against AMA Collegiate Chapters nationwide! Ready for the challenge? Sign up now! \nReminders: \nBring your laptops \nDress code casual
URL:https://amaut.net/event/t-shirt-competition/
LOCATION:Plant Hall Grand Salon
ATTACH;FMTTYPE=image/png:https://amaut.net/wp-content/uploads/2024/10/t-shirt-competition-5.png
END:VEVENT
END:VCALENDAR